BEGIN:VCALENDAR
VERSION:2.0
PRODID:-//Tres Rios Presbytery - ECPv5.16.4//NONSGML v1.0//EN
CALSCALE:GREGORIAN
METHOD:PUBLISH
X-WR-CALNAME:Tres Rios Presbytery
X-ORIGINAL-URL:https://tresrios.org
X-WR-CALDESC:Events for Tres Rios Presbytery
BEGIN:VTIMEZONE
TZID:UTC
BEGIN:STANDARD
TZOFFSETFROM:+0000
TZOFFSETTO:+0000
TZNAME:UTC
DTSTART:20210101T000000
END:STANDARD
END:VTIMEZONE
BEGIN:VEVENT
DTSTART;TZID=UTC:20210526T093000
DTEND;TZID=UTC:20210526T103000
DTSTAMP:20260421T010630
CREATED:20210112T171811Z
LAST-MODIFIED:20210512T192833Z
UID:363-1622021400-1622025000@tresrios.org
SUMMARY:Leadership/Staff Meeting
DESCRIPTION:
URL:https://tresrios.org/event/leadership-staff-meeting-2/
END:VEVENT
END:VCALENDAR