BEGIN:VCALENDAR
VERSION:2.0
PRODID:-//Tres Rios Presbytery - ECPv5.16.4//NONSGML v1.0//EN
CALSCALE:GREGORIAN
METHOD:PUBLISH
X-WR-CALNAME:Tres Rios Presbytery
X-ORIGINAL-URL:https://tresrios.org
X-WR-CALDESC:Events for Tres Rios Presbytery
BEGIN:VTIMEZONE
TZID:UTC
BEGIN:STANDARD
TZOFFSETFROM:+0000
TZOFFSETTO:+0000
TZNAME:UTC
DTSTART:20210101T000000
END:STANDARD
END:VTIMEZONE
BEGIN:VEVENT
DTSTART;TZID=UTC:20210525T093000
DTEND;TZID=UTC:20210525T103000
DTSTAMP:20260420T232047
CREATED:20200507T183938Z
LAST-MODIFIED:20210512T192627Z
UID:267-1621935000-1621938600@tresrios.org
SUMMARY:Clergy Bible Study
DESCRIPTION:For more information contact Theresa Wright
URL:https://tresrios.org/event/clergy-bible-study-2/
END:VEVENT
BEGIN:VEVENT
DTSTART;TZID=UTC:20210525T190000
DTEND;TZID=UTC:20210525T193000
DTSTAMP:20260420T232047
CREATED:20200427T144541Z
LAST-MODIFIED:20210309T163744Z
UID:252-1621969200-1621971000@tresrios.org
SUMMARY:Team Meet
DESCRIPTION:
URL:https://tresrios.org/event/team-meet-and-staff-meeting/
END:VEVENT
END:VCALENDAR