BEGIN:VCALENDAR
VERSION:2.0
PRODID:-//Tres Rios Presbytery - ECPv5.16.4//NONSGML v1.0//EN
CALSCALE:GREGORIAN
METHOD:PUBLISH
X-WR-CALNAME:Tres Rios Presbytery
X-ORIGINAL-URL:https://tresrios.org
X-WR-CALDESC:Events for Tres Rios Presbytery
BEGIN:VTIMEZONE
TZID:UTC
BEGIN:STANDARD
TZOFFSETFROM:+0000
TZOFFSETTO:+0000
TZNAME:UTC
DTSTART:20210101T000000
END:STANDARD
END:VTIMEZONE
BEGIN:VEVENT
DTSTART;TZID=UTC:20210511T140000
DTEND;TZID=UTC:20210511T160000
DTSTAMP:20260421T210357
CREATED:20200818T171813Z
LAST-MODIFIED:20210512T192333Z
UID:327-1620741600-1620748800@tresrios.org
SUMMARY:Vision & Outreach Team Meeting
DESCRIPTION:
URL:https://tresrios.org/event/vision-outreach-team-meeting/
END:VEVENT
END:VCALENDAR