BEGIN:VCALENDAR
VERSION:2.0
PRODID:-//Tres Rios Presbytery - ECPv5.16.4//NONSGML v1.0//EN
CALSCALE:GREGORIAN
METHOD:PUBLISH
X-WR-CALNAME:Tres Rios Presbytery
X-ORIGINAL-URL:https://tresrios.org
X-WR-CALDESC:Events for Tres Rios Presbytery
BEGIN:VTIMEZONE
TZID:UTC
BEGIN:STANDARD
TZOFFSETFROM:+0000
TZOFFSETTO:+0000
TZNAME:UTC
DTSTART:20210101T000000
END:STANDARD
END:VTIMEZONE
BEGIN:VEVENT
DTSTART;TZID=UTC:20210422T093000
DTEND;TZID=UTC:20210422T103000
DTSTAMP:20260423T011343
CREATED:20201109T160137Z
LAST-MODIFIED:20210512T193520Z
UID:344-1619083800-1619087400@tresrios.org
SUMMARY:Clergy Bible Study
DESCRIPTION:For more information contact Theresa Wright
URL:https://tresrios.org/event/clergy-bible-study-5/
END:VEVENT
END:VCALENDAR