BEGIN:VCALENDAR
VERSION:2.0
PRODID:-//Tres Rios Presbytery - ECPv5.16.4//NONSGML v1.0//EN
CALSCALE:GREGORIAN
METHOD:PUBLISH
X-WR-CALNAME:Tres Rios Presbytery
X-ORIGINAL-URL:https://tresrios.org
X-WR-CALDESC:Events for Tres Rios Presbytery
BEGIN:VTIMEZONE
TZID:UTC
BEGIN:STANDARD
TZOFFSETFROM:+0000
TZOFFSETTO:+0000
TZNAME:UTC
DTSTART:20230101T000000
END:STANDARD
END:VTIMEZONE
BEGIN:VEVENT
DTSTART;TZID=UTC:20230808T140000
DTEND;TZID=UTC:20230808T140000
DTSTAMP:20260420T041310
CREATED:20191223T154857Z
LAST-MODIFIED:20230808T134746Z
UID:65-1691503200-1691503200@tresrios.org
SUMMARY:Vision and Outreach Team 2:00 p.m.
DESCRIPTION:
URL:https://tresrios.org/event/vision-and-outreach-team-130-p-m/
END:VEVENT
END:VCALENDAR