BEGIN:VCALENDAR
VERSION:2.0
PRODID:-//Tres Rios Presbytery - ECPv5.16.4//NONSGML v1.0//EN
CALSCALE:GREGORIAN
METHOD:PUBLISH
X-WR-CALNAME:Tres Rios Presbytery
X-ORIGINAL-URL:https://tresrios.org
X-WR-CALDESC:Events for Tres Rios Presbytery
BEGIN:VTIMEZONE
TZID:UTC
BEGIN:STANDARD
TZOFFSETFROM:+0000
TZOFFSETTO:+0000
TZNAME:UTC
DTSTART:20200101T000000
END:STANDARD
END:VTIMEZONE
BEGIN:VEVENT
DTSTART;TZID=UTC:20200804T180000
DTEND;TZID=UTC:20200804T190000
DTSTAMP:20260422T085847
CREATED:20200507T183053Z
LAST-MODIFIED:20200730T140152Z
UID:264-1596564000-1596567600@tresrios.org
SUMMARY:Presbytery wide prayer service
DESCRIPTION:For more information contact Hailey Malcolm
URL:https://tresrios.org/event/presbytery-wide-prayer-service-2/
END:VEVENT
END:VCALENDAR