BEGIN:VCALENDAR
VERSION:2.0
PRODID:-//Tres Rios Presbytery - ECPv5.16.4//NONSGML v1.0//EN
CALSCALE:GREGORIAN
METHOD:PUBLISH
X-WR-CALNAME:Tres Rios Presbytery
X-ORIGINAL-URL:https://tresrios.org
X-WR-CALDESC:Events for Tres Rios Presbytery
BEGIN:VTIMEZONE
TZID:UTC
BEGIN:STANDARD
TZOFFSETFROM:+0000
TZOFFSETTO:+0000
TZNAME:UTC
DTSTART:20200101T000000
END:STANDARD
END:VTIMEZONE
BEGIN:VEVENT
DTSTART;TZID=UTC:20200721T080000
DTEND;TZID=UTC:20200721T170000
DTSTAMP:20260420T065227
CREATED:20200721T141140Z
LAST-MODIFIED:20200721T141140Z
UID:314-1595318400-1595350800@tresrios.org
SUMMARY:Presbytery Wide Bible Study
DESCRIPTION:For more information contact Hailey Malcolm
URL:https://tresrios.org/event/presbytery-wide-bible-study/
END:VEVENT
END:VCALENDAR