BEGIN:VCALENDAR
VERSION:2.0
PRODID:-//Tres Rios Presbytery - ECPv5.16.4//NONSGML v1.0//EN
CALSCALE:GREGORIAN
METHOD:PUBLISH
X-WR-CALNAME:Tres Rios Presbytery
X-ORIGINAL-URL:https://tresrios.org
X-WR-CALDESC:Events for Tres Rios Presbytery
BEGIN:VTIMEZONE
TZID:UTC
BEGIN:STANDARD
TZOFFSETFROM:+0000
TZOFFSETTO:+0000
TZNAME:UTC
DTSTART:20200101T000000
END:STANDARD
END:VTIMEZONE
BEGIN:VEVENT
DTSTART;TZID=UTC:20200602T133000
DTEND;TZID=UTC:20200602T143000
DTSTAMP:20260422T090327
CREATED:20200526T164750Z
LAST-MODIFIED:20200526T164750Z
UID:277-1591104600-1591108200@tresrios.org
SUMMARY:Pastoral Team Meeting
DESCRIPTION:
URL:https://tresrios.org/event/pastoral-team-meeting/
END:VEVENT
END:VCALENDAR