BEGIN:VCALENDAR
VERSION:2.0
PRODID:-//Tres Rios Presbytery - ECPv5.16.4//NONSGML v1.0//EN
CALSCALE:GREGORIAN
METHOD:PUBLISH
X-WR-CALNAME:Tres Rios Presbytery
X-ORIGINAL-URL:https://tresrios.org
X-WR-CALDESC:Events for Tres Rios Presbytery
BEGIN:VTIMEZONE
TZID:UTC
BEGIN:STANDARD
TZOFFSETFROM:+0000
TZOFFSETTO:+0000
TZNAME:UTC
DTSTART:20250101T000000
END:STANDARD
END:VTIMEZONE
BEGIN:VEVENT
DTSTART;TZID=UTC:20250729T093000
DTEND;TZID=UTC:20250729T103000
DTSTAMP:20260422T102612
CREATED:20200721T162748Z
LAST-MODIFIED:20250715T145626Z
UID:317-1753781400-1753785000@tresrios.org
SUMMARY:Clergy Bible Study
DESCRIPTION:For more information contact Theresa Wright \nJoin Zoom Meeting \nhttps://us02web.zoom.us/j/81001729684?pwd=N2NyTTRhV1luWGQvbWRJUWlXVG85Zz09 \nMeeting ID: 810 0172 9684\nPasscode: 3Rios \n 
URL:https://tresrios.org/event/clergy-bible-study-4/
END:VEVENT
END:VCALENDAR